BEGIN:VCALENDAR
VERSION:2.0
PRODID:-//Tukios.com/
BEGIN:VEVENT
UID:dc2d9ede-9b3e-4be7-a941-8a8ca388e636@www.freckchapel.com
DTSTAMP:20260420T082842Z
DTSTART:20260422T180000Z
DTEND:20260423T000000Z
SUMMARY:Visitation
DESCRIPTION:
URL:https://www.freckchapel.com/obituaries/joan-peiffer
LOCATION:Freck Funeral Chapel 1155 S. Wynn Road  Oregon OH 43616
GEO:41.6312798;-83.4269396
END:VEVENT
END:VCALENDAR