BEGIN:VCALENDAR
VERSION:2.0
PRODID:-//Tukios.com/
BEGIN:VEVENT
UID:a4aea03c-2bad-43f4-a4c2-03ad7583e492@www.freckchapel.com
DTSTAMP:20260424T163728Z
DTSTART:20260428T150000Z
DTEND:20260428T170000Z
SUMMARY:Visitation
DESCRIPTION:
URL:https://www.freckchapel.com/obituaries/joseph-feahr
LOCATION: 1155 S. Wynn Road  Oregon OH 43616
GEO:41.6312798;-83.4269396
END:VEVENT
END:VCALENDAR