BEGIN:VCALENDAR
VERSION:2.0
PRODID:-//Tukios.com/
BEGIN:VEVENT
UID:c0949b82-3dbc-444e-abd8-04e5c04e0d01@www.freckchapel.com
DTSTAMP:20260424T164002Z
DTSTART:20260428T170000Z
DTEND:20260428T180000Z
SUMMARY:Memorial Service
DESCRIPTION:
URL:https://www.freckchapel.com/obituaries/joseph-feahr
LOCATION: 1155 S. Wynn Road  Oregon OH 43616
GEO:41.6312798;-83.4269396
END:VEVENT
END:VCALENDAR