BEGIN:VCALENDAR
VERSION:2.0
PRODID:-//Tukios.com/
BEGIN:VEVENT
UID:8db6289b-029f-4fb1-a5fe-a5697630f41c@www.freckchapel.com
DTSTAMP:20260424T211522Z
DTSTART:20260426T210000Z
DTEND:20260427T000000Z
SUMMARY:Visitation
DESCRIPTION:
URL:https://www.freckchapel.com/obituaries/julie-owczarzak
LOCATION:Freck Funeral Chapel 1155 S. Wynn Road  Oregon OH 43616
GEO:41.6312798;-83.4269396
END:VEVENT
END:VCALENDAR