BEGIN:VCALENDAR
VERSION:2.0
PRODID:-//Tukios.com/
BEGIN:VEVENT
UID:f1467e84-8b13-446e-a6ba-09d043dbe216@www.freckchapel.com
DTSTAMP:20260424T211353Z
DTSTART:20260427T150000Z
DTEND:20260427T160000Z
SUMMARY:Funeral Service
DESCRIPTION:
URL:https://www.freckchapel.com/obituaries/julie-owczarzak
LOCATION:St. Adalbert Catholic Church 3233 Lagrange Street  Toledo OH 
	43608
GEO:41.6815218;-83.5421344
END:VEVENT
END:VCALENDAR