BEGIN:VCALENDAR
VERSION:2.0
PRODID:-//Tukios.com/
BEGIN:VEVENT
UID:7be4f58a-74e0-48e7-a00c-12d4412f0470@www.freckchapel.com
DTSTAMP:20260424T211547Z
DTSTART:20260427T163000Z
DTEND:20260427T173000Z
SUMMARY:Entombment
DESCRIPTION:
URL:https://www.freckchapel.com/obituaries/julie-owczarzak
LOCATION: 4210 Central Avenue  Toledo OH 43606
GEO:41.677459;-83.642844
END:VEVENT
END:VCALENDAR