BEGIN:VCALENDAR
VERSION:2.0
PRODID:-//Tukios.com/
BEGIN:VEVENT
UID:6de8cde8-8b6e-4a4f-9901-4e945e438905@www.freckchapel.com
DTSTAMP:20260420T030011Z
DTSTART:20260423T200000Z
DTEND:20260423T220000Z
SUMMARY:Visitation
DESCRIPTION:
URL:https://www.freckchapel.com/obituaries/thomas-caldwell
LOCATION:Mainstreet Church 5465 Moline-Martin Road  Walbridge OH 43465
GEO:41.5565645;-83.5016404
END:VEVENT
END:VCALENDAR