BEGIN:VCALENDAR
VERSION:2.0
PRODID:-//Tukios.com/
BEGIN:VEVENT
UID:7cf539bb-236f-4969-a0d5-9648dc8bdb72@www.freckchapel.com
DTSTAMP:20260420T025450Z
DTSTART:20260423T220000Z
DTEND:20260423T230000Z
SUMMARY:Memorial Service
DESCRIPTION:
URL:https://www.freckchapel.com/obituaries/thomas-caldwell
LOCATION:Mainstreet Church 5465 Moline-Martin Road  Walbridge OH 43465
GEO:41.5565645;-83.5016404
END:VEVENT
END:VCALENDAR